BEGIN:VCALENDAR
VERSION:2.0
PRODID:-//SwissTextiles//NONSGML Alternativen für PFAS - Alternatives for PFAS//DE
METHOD:PUBLISH
BEGIN:VEVENT
UID:20260420T004535-1817492142-swisstextiles.ch
DTSTAMP:20260420T004535
DTSTART:20240124T150000Z
DTEND:20240124T160000Z
LOCATION:Webinar mit Microsoft TEAMS, Der Zugangslink wird nach Anmeldung einige Tage vor der Veranstaltung verschickt und ist im Kalendereintrag der Anmeldebestätigung hinterlegt., 
SUMMARY:Alternativen für PFAS - Alternatives for PFAS
DESCRIPTION:
END:VEVENT
END:VCALENDAR
