BEGIN:VCALENDAR
VERSION:2.0
PRODID:-//SwissTextiles//NONSGML Wie weiter nach der Lehre - Perspektiven schaffen als Lehrbetrieb//DE
METHOD:PUBLISH
BEGIN:VEVENT
UID:20260420T004124-1479135549-swisstextiles.ch
DTSTAMP:20260420T004124
DTSTART:20240221T123000Z
DTEND:20240221T160000Z
LOCATION:Das Webinar findet via Zoom statt., Der Zugangslink wird nach Anmeldung einige Tage vor der Veranstaltung verschickt., 
SUMMARY:Wie weiter nach der Lehre - Perspektiven schaffen als Lehrbetrieb
DESCRIPTION:
END:VEVENT
END:VCALENDAR
