BEGIN:VCALENDAR
VERSION:2.0
PRODID:-//SwissTextiles//NONSGML IT Sicherheit in KMU//DE
METHOD:PUBLISH
BEGIN:VEVENT
UID:20260420T004414-952421266-swisstextiles.ch
DTSTAMP:20260420T004414
DTSTART:20240201T150000Z
DTEND:20240201T160000Z
LOCATION:Webinar mit Microsoft TEAMS, Der Zugangslink wird nach Anmeldung einige Tage vor der Veranstaltung verschickt und ist im Kalendereintrag der Anmeldebestätigung hinterlegt., 
SUMMARY:IT Sicherheit in KMU
DESCRIPTION:
END:VEVENT
END:VCALENDAR
