BEGIN:VCALENDAR
VERSION:2.0
PRODID:-//SwissTextiles//NONSGML Webinar Künstliche Intelligenz und das Schweizer Recht//DE
METHOD:PUBLISH
BEGIN:VEVENT
UID:20260421T103044-743675132-swisstextiles.ch
DTSTAMP:20260421T103044
DTSTART:20250522T083000Z
DTEND:20250522T100000Z
LOCATION:Webinar mit Microsoft TEAMS, Nach Ihrer Anmeldung erhalten Sie eine Bestätigung mit einem Kalendereintrag. Einige Tage vor der Veranstaltung versenden wir den Zugangslink, den Sie auch im Kalendereintrag finden., 
SUMMARY:Webinar Künstliche Intelligenz und das Schweizer Recht
DESCRIPTION:
END:VEVENT
END:VCALENDAR
