BEGIN:VCALENDAR
VERSION:2.0
PRODID:-//SwissTextiles//NONSGML Swiss Textiles Summit und Generalversammlung 2026//DE
METHOD:PUBLISH
BEGIN:VEVENT
UID:20260424T165817-200871039-swisstextiles.ch
DTSTAMP:20260424T165817
DTSTART:20260611T130000Z
DTEND:20260611T200000Z
LOCATION:Kunsthaus, Heimplatz, 8001 Zürich, Switzerland
SUMMARY:Swiss Textiles Summit und Generalversammlung 2026
DESCRIPTION:Am Summit von Swiss Textiles am 11. Juni suchen wir gemeinsam mit unseren Mitgliedern Antworten auf die Zukunftsfragen unserer Branche. Im Zürcher Kunsthaus zeigen wir, woran der Verband arbeitet, wie wir trotz wirtschaftlich unsicherer Zeiten zuversichtlich bleiben – und was Raumfahrt mit Magie und Veränderung zu tun hat.
END:VEVENT
END:VCALENDAR
