BEGIN:VCALENDAR
VERSION:2.0
PRODID:-//SwissTextiles//NONSGML Innovation Day 2026//EN
METHOD:PUBLISH
BEGIN:VEVENT
UID:20260421T133044-760181163-swisstextiles.ch
DTSTAMP:20260421T133044
DTSTART:20261208T080000Z
DTEND:20261208T140000Z
LOCATION:Technopark, Technoparkstrasse 1, 8005 Zürich, Switzerland
SUMMARY:Innovation Day 2026
DESCRIPTION:
END:VEVENT
END:VCALENDAR
